BEGIN:VCALENDAR
VERSION:2.0
PRODID:-//ChamberMaster//Event Calendar 2.0//EN
METHOD:PUBLISH
X-PUBLISHED-TTL:P1H
REFRESH-INTERVAL:P1H
CALSCALE:GREGORIAN
BEGIN:VTIMEZONE
TZID:America/Los_Angeles
BEGIN:DAYLIGHT
RRULE:FREQ=YEARLY;BYMONTH=3;BYDAY=2SU
DTSTART:20070101T000000
TZOFFSETFROM:-0800
TZOFFSETTO:-0700
TZNAME:Pacific Daylight Time
END:DAYLIGHT
BEGIN:STANDARD
RRULE:FREQ=YEARLY;BYMONTH=11;BYDAY=1SU
DTSTART:20070101T000000
TZOFFSETFROM:-0700
TZOFFSETTO:-0800
TZNAME:Pacific Standard Time
END:STANDARD
END:VTIMEZONE
BEGIN:VEVENT
DTSTART;TZID=America/Los_Angeles:20260501T170000
DTEND;TZID=America/Los_Angeles:20260501T200000
X-MICROSOFT-CDO-ALLDAYEVENT:FALSE
SUMMARY:First Friday Salinas
DESCRIPTION:First Friday Salinas is a monthly tradition designed to transform Downtown into a consistent\, positive space for community and culture to thrive.Come and enjoy an evening of local art\, live entertainment\, delicious food\, and shops open late. Bring your friends and family to Salinas City Center and discover something new every First Friday of the month   you won't want to miss it!When & Where:\nEvery First Friday of the Month\nStarting at 5:00 PM
X-ALT-DESC;FMTTYPE=text/html:<!DOCTYPE html><html><head><title></title></head><body aria-disabled="false"><p>First Friday Salinas is a monthly tradition designed to transform Downtown into a consistent\, positive space for community and culture to thrive.</p><div data-element_type="widget" data-id="a455131" data-widget_type="theme-post-content.default" style='box-sizing: border-box\; --flex-direction: initial\; --flex-wrap: initial\; --justify-content: initial\; --align-items: initial\; --align-content: initial\; --gap: initial\; --flex-basis: initial\; --flex-grow: initial\; --flex-shrink: initial\; --order: initial\; --align-self: initial\; align-self: auto\; flex: 0 1 auto\; order: 0\; place-content: normal\; align-items: normal\; flex-flow: row\; gap: 20px\; position: relative\; --widgets-spacing: 20px 20px\; --widgets-spacing-row: 20px\; --widgets-spacing-column: 20px\; color: rgb(84\, 89\, 95)\; font-family: "Lexend Deca"\, sans-serif\; font-weight: 300\; margin-block-end: 0px\; min-width: 0px\; --kit-widget-spacing: 0px\; max-width: 100%\; font-size: 18px\; font-style: normal\; font-variant-ligatures: normal\; font-variant-caps: normal\; letter-spacing: normal\; orphans: 2\; text-align: start\; text-indent: 0px\; text-transform: none\; widows: 2\; word-spacing: 0px\; -webkit-text-stroke-width: 0px\; white-space: normal\; background-color: rgb(255\, 255\, 255)\; text-decoration-thickness: initial\; text-decoration-style: initial\; text-decoration-color: initial\;'><div style="box-sizing: border-box\; transition: background 0.3s\, border 0.3s\, border-radius 0.3s\, box-shadow 0.3s\, transform 0.4s\; height: 448.195px\;"><p style="box-sizing: border-box\; margin-block: 0px 0.9rem\;">Come and enjoy an evening of local art\, live entertainment\, delicious food\, and shops open late. Bring your friends and family to Salinas City Center and discover something new every First Friday of the month &mdash\; you won&rsquo\;t want to miss it!</p><p style="box-sizing: border-box\; margin-block: 0px 0.9rem\;">When &amp\; Where:<br style="box-sizing: border-box\;">Every First Friday of the Month<br style="box-sizing: border-box\;">Starting at 5:00 PM</p></div></div></body></html>
LOCATION:
UID:e.1044.1450670
SEQUENCE:3
DTSTAMP:20260425T131345Z
URL:https://business.salinaschamber.com/chamber-event-calendar/Details/first-friday-salinas-1718321?sourceTypeId=Hub
END:VEVENT
END:VCALENDAR
